BEGIN:VCALENDAR
VERSION:2.0
PRODID:GIGPRESS 2.0 WORDPRESS PLUGIN
CALSCALE:GREGORIAN
X-WR-TIMEZONE:Etc/GMT
METHOD:PUBLISH
BEGIN:VTIMEZONE
TZID:GMT
BEGIN:STANDARD
DTSTART:20071028T010000
TZOFFSETTO:+0000
TZOFFSETFROM:+0000
END:STANDARD
END:VTIMEZONE
BEGIN:VEVENT
SUMMARY:CHI CHI at BURLEIGH BEARS LEAGUES CLUB
DESCRIPTION:Notes: BURLEIGH BEARS LEAGUES CLUB [Small-Medium Dancefloor)  PLAYING: *Dinner/Goodtime*  6-10pm   *** CHI CHI Duo *** No Minors
LOCATION:BURLEIGH BEARS LEAGUES CLUB\, 80 Pacific Ave Miami QLD 4220\, Burleigh\, AU
UID:20190302T180000Z-1648-greg@chi-chi.com.au
URL:http://www.chi-chi.com.au
DTSTART;VALUE=DATE-TIME;TZID=GMT:20190302T180000Z
DTEND;VALUE=DATE-TIME;TZID=GMT:20190302T180000Z
DTSTAMP:20190301T101216Z
END:VEVENT
END:VCALENDAR