BEGIN:VCALENDAR
VERSION:2.0
PRODID:GIGPRESS 2.0 WORDPRESS PLUGIN
CALSCALE:GREGORIAN
X-WR-TIMEZONE:Etc/GMT
METHOD:PUBLISH
BEGIN:VTIMEZONE
TZID:GMT
BEGIN:STANDARD
DTSTART:20071028T010000
TZOFFSETTO:+0000
TZOFFSETFROM:+0000
END:STANDARD
END:VTIMEZONE
BEGIN:VEVENT
SUMMARY:CHI CHI at PRIVATE FUNCTION
DESCRIPTION:Notes: PRIVATE FUNCTION No Minors
LOCATION:PRIVATE FUNCTION\, Qld\, AU
UID:20190302T100000Z-1649-greg@chi-chi.com.au
URL:http://www.chi-chi.com.au
DTSTART;VALUE=DATE-TIME;TZID=GMT:20190302T100000Z
DTEND;VALUE=DATE-TIME;TZID=GMT:20190302T100000Z
DTSTAMP:20190301T101209Z
END:VEVENT
END:VCALENDAR