BEGIN:VCALENDAR
VERSION:2.0
PRODID:GIGPRESS 2.0 WORDPRESS PLUGIN
CALSCALE:GREGORIAN
X-WR-TIMEZONE:Etc/GMT
METHOD:PUBLISH
BEGIN:VTIMEZONE
TZID:GMT
BEGIN:STANDARD
DTSTART:20071028T010000
TZOFFSETTO:+0000
TZOFFSETFROM:+0000
END:STANDARD
END:VTIMEZONE
BEGIN:VEVENT
SUMMARY:CHI CHI TRIO at CABOOLTURE RSL
DESCRIPTION:Notes: CABOOLTURE RSL [MEDIUM-LARGE DANCEFLOOR]  PLAYING: *Rock'nRoll/Swing &amp\; Related*  7:45-11:30pm  *** CHI CHI TRIO *** No Minors
LOCATION:CABOOLTURE RSL\, Cnr Beerburrum Rd & Hasking St\, Caboolture\, AU
UID:20190308T194500Z-1650-greg@chi-chi.com.au
URL:http://www.chi-chi.com.au
DTSTART;VALUE=DATE-TIME;TZID=GMT:20190308T194500Z
DTEND;VALUE=DATE-TIME;TZID=GMT:20190308T194500Z
DTSTAMP:20190301T101223Z
END:VEVENT
END:VCALENDAR