BEGIN:VCALENDAR
VERSION:2.0
PRODID:GIGPRESS 2.0 WORDPRESS PLUGIN
CALSCALE:GREGORIAN
X-WR-TIMEZONE:Etc/GMT
METHOD:PUBLISH
BEGIN:VTIMEZONE
TZID:GMT
BEGIN:STANDARD
DTSTART:20071028T010000
TZOFFSETTO:+0000
TZOFFSETFROM:+0000
END:STANDARD
END:VTIMEZONE
BEGIN:VEVENT
SUMMARY:CHI CHI TRIO at KEDRON WAVELL RSL
DESCRIPTION:Notes: KEDRON WAVELL RSL [*NEW* Medium DANCEFLOOR]  PLAYING: *TOP 40/Party*  9pm-1am  *** CHI CHI TRIO *** No Minors
LOCATION:KEDRON WAVELL RSL\, 375 Hamilton Road\, Chermside South. Qld 4032\, Brisbane\, AU
UID:20190309T210000Z-1651-greg@chi-chi.com.au
URL:http://www.chi-chi.com.au
DTSTART;VALUE=DATE-TIME;TZID=GMT:20190309T210000Z
DTEND;VALUE=DATE-TIME;TZID=GMT:20190309T210000Z
DTSTAMP:20190301T101232Z
END:VEVENT
END:VCALENDAR