BEGIN:VCALENDAR
VERSION:2.0
PRODID:GIGPRESS 2.0 WORDPRESS PLUGIN
CALSCALE:GREGORIAN
X-WR-TIMEZONE:Etc/GMT
METHOD:PUBLISH
BEGIN:VTIMEZONE
TZID:GMT
BEGIN:STANDARD
DTSTART:20071028T010000
TZOFFSETTO:+0000
TZOFFSETFROM:+0000
END:STANDARD
END:VTIMEZONE
BEGIN:VEVENT
SUMMARY:CHI CHI at GREENBANK RSL
DESCRIPTION:Notes: GREENBANK RSL [Medium Dancefloor]  PLAYING: *Morning Melodies/Linedancing*  10:30am-1:30pm  *** CHI CHI Duo *** No Minors
LOCATION:GREENBANK RSL\, 54 Anzac Avenue\, Hillcrest Qld 4118\, Greenbank\, AU
UID:20190314T103000Z-1653-greg@chi-chi.com.au
URL:http://www.chi-chi.com.au
DTSTART;VALUE=DATE-TIME;TZID=GMT:20190314T103000Z
DTEND;VALUE=DATE-TIME;TZID=GMT:20190314T103000Z
DTSTAMP:20190301T101250Z
END:VEVENT
END:VCALENDAR