BEGIN:VCALENDAR
VERSION:2.0
PRODID:GIGPRESS 2.0 WORDPRESS PLUGIN
CALSCALE:GREGORIAN
X-WR-TIMEZONE:Etc/GMT
METHOD:PUBLISH
BEGIN:VTIMEZONE
TZID:GMT
BEGIN:STANDARD
DTSTART:20071028T010000
TZOFFSETTO:+0000
TZOFFSETFROM:+0000
END:STANDARD
END:VTIMEZONE
BEGIN:VEVENT
SUMMARY:CHI CHI TRIO at MOOLOOLABAH SURF CLUB
DESCRIPTION:Notes: MOOLOOLABA SURF CLUB [Medium Dancefloor-Good Decking]  PLAYING: *ALL STYLES DANCING WELCOME*  8pm-Midnite  *** CHI CHI TRIO *** No Minors
LOCATION:MOOLOOLABAH SURF CLUB\, The Esplanade\, Mooloolaba\, AU
UID:20190315T200000Z-1654-greg@chi-chi.com.au
URL:http://www.chi-chi.com.au
DTSTART;VALUE=DATE-TIME;TZID=GMT:20190315T200000Z
DTEND;VALUE=DATE-TIME;TZID=GMT:20190315T200000Z
DTSTAMP:20190301T101258Z
END:VEVENT
END:VCALENDAR